BEGIN:VCALENDAR
PRODID:-//eluceo/ical//2.0/EN
VERSION:2.0
CALSCALE:GREGORIAN
BEGIN:VEVENT
UID:530f07fab9b32681e758be281dcf4ffd
DTSTAMP:20260423T131459Z
SUMMARY:Assemblée de Formation des Rotariens du District
DESCRIPTION:Speaker(s): Accueil à partir de 8h30 à l'Hôtel Mercure  - A
 rras Centre gareFrais d’inscription du séminaire :- Rotariens : 45 € 
 - Conjoint(e)s de Rotarien : 35 € - Rotaractiens : 20 € \n            
      (Pris en charge par les clubs respectifs)  - Invités (non Rotariens)
  : 45 € - Membres de l’Équipe de District : 45 € (Pris en Charge pa
 r le district)  \n \n \nNB : Selon devis\, coût réel moyen : 75 €   
 Paiement par carte : Paiement par carte bancaire
URL:https://rotaryd1520.org/en/agenda/show/49421
DTSTART;TZID=Europe/Zurich:20250426T083000
DTEND;TZID=Europe/Zurich:20250426T160000
LOCATION:Hôtel Mercure - Arras Centre Gare
CATEGORIES:Rotary
END:VEVENT
BEGIN:VTIMEZONE
TZID:Europe/Zurich
BEGIN:DAYLIGHT
DTSTART:20250426T083000
TZNAME:CEST
TZOFFSETTO:+0200
TZOFFSETFROM:+0200
END:DAYLIGHT
END:VTIMEZONE
END:VCALENDAR
